BEGIN:VCALENDAR
VERSION:2.0
PRODID:-//Corks and Canvas Events - ECPv6.6.4.2//NONSGML v1.0//EN
CALSCALE:GREGORIAN
METHOD:PUBLISH
X-WR-CALNAME:Corks and Canvas Events
X-ORIGINAL-URL:https://corksandcanvasevents.com
X-WR-CALDESC:Events for Corks and Canvas Events
REFRESH-INTERVAL;VALUE=DURATION:PT1H
X-Robots-Tag:noindex
X-PUBLISHED-TTL:PT1H
BEGIN:VTIMEZONE
TZID:America/Los_Angeles
BEGIN:DAYLIGHT
TZOFFSETFROM:-0800
TZOFFSETTO:-0700
TZNAME:PDT
DTSTART:20260308T100000
END:DAYLIGHT
BEGIN:STANDARD
TZOFFSETFROM:-0700
TZOFFSETTO:-0800
TZNAME:PST
DTSTART:20261101T090000
END:STANDARD
END:VTIMEZONE
BEGIN:VEVENT
DTSTART;TZID=America/Los_Angeles:20260428T180000
DTEND;TZID=America/Los_Angeles:20260428T200000
DTSTAMP:20260425T132445
CREATED:20260225T183334Z
LAST-MODIFIED:20260312T142241Z
UID:12214-1777399200-1777406400@corksandcanvasevents.com
SUMMARY:Suite Restaurant & Lounge\, Bellevue - "Bucket of Tulips"
DESCRIPTION:Includes step-by-step instruction\, all supplies\, brushes\, aprons\, and easels. \nTIME: 6 pm check-in\, 6:15 – 8 pm instruction \nLOCATION: Suite Restaurant & Lounge \n10500 NE 8th ST Suite 125 \nBellevue\, WA 98004 \nVenue Phone: (425) 679-6951 \nFOOD/BEV: Food and beverages available for purchase. \nCANCELLATION POLICY: No refunds. A minimum of 24 hours notice required to reschedule into another event. \nGROUPON/DISCOUNTS: Sorry! Discounts are not available for this event.
URL:https://corksandcanvasevents.com/event/suite-restaurant-lounge-bellevue-bucket-of-tulips/
ATTACH;FMTTYPE=image/jpeg:https://corksandcanvasevents.com/wp-content/uploads/2026/02/Bucket-of-Tulips-1.jpg
END:VEVENT
END:VCALENDAR